BEGIN:VCALENDAR
VERSION:2.0
PRODID:-//wp-events-plugin.com//7.2.3.1//EN
TZID:Europe/Berlin
X-WR-TIMEZONE:Europe/Berlin
BEGIN:VEVENT
UID:4@didactmedia.eu
DTSTART;TZID=Europe/Berlin:20231116T160000
DTEND;TZID=Europe/Berlin:20231116T190000
DTSTAMP:20231108T134322Z
URL:https://didactmedia.eu/events/tischmesse-zur-bildung-fuer-nachhaltige-
 entwicklung-bne/
SUMMARY:Tischmesse zur Bildung für nachhaltige Entwicklung (BNE)
DESCRIPTION:Nachhaltigkeit lernen in Schulen und Kitas: Tischmesse zur Bild
 ung für nachhaltige Entwicklung (BNE) im Rahmen der Konstanzer BNE-Tage 2
 023\n\nLehrkräfte und Erzieher*innen treffen auf regionale und überregio
 nale BNE-Angebote.\n16.30 Grußwort und kleiner Impulsvortrag: Christiane 
 Bertram – Hector-Institut für Empirische Bildungsforschung\, Universit
 ät Tübingen &amp\; Teachers for Future Germany e.V.\n\nSchauen Sie gerne
  bei uns am Tisch vorbei und informieren sich über unsere Medienangebote 
 zum Thema Bildung für nachhaltige Entwicklung.
ATTACH;FMTTYPE=image/jpeg:https://didactmedia.eu/wp-content/uploads/2023/1
 1/02__BNE_Tage_2310_A4_Programm.png
END:VEVENT
BEGIN:VTIMEZONE
TZID:Europe/Berlin
X-LIC-LOCATION:Europe/Berlin
BEGIN:STANDARD
DTSTART:20231029T020000
TZOFFSETFROM:+0200
TZOFFSETTO:+0100
TZNAME:CET
END:STANDARD
END:VTIMEZONE
END:VCALENDAR